BEGIN:VCALENDAR
VERSION:2.0
PRODID:icalendar-ruby
CALSCALE:GREGORIAN
METHOD:PUBLISH
BEGIN:VEVENT
DTSTAMP:20260423T115308Z
UID:198-1152815@stjohnsvernonct.org
DTSTART:20250923T213000Z
DTEND:20250923T223000Z
CLASS:PUBLIC
CREATED:20260215T202757
DESCRIPTION:
LAST-MODIFIED:20260215T202757
LOCATION:
SUMMARY:NO yoga 
URL;VALUE=URI:https://stjohnsvernonct.org/events/no-yoga/2025-09-23
ATTACH;FILENAME=Yoga.jpg;FMTTYPE=image/jpeg:https://dq5pwpg1q8ru0.cloudfron
 t.net/2025/04/29/14/40/49/fa70781b-3eb6-409c-9905-1a60bb78cf27/Yoga.jpg
END:VEVENT
END:VCALENDAR
